BEGIN:VCALENDAR
VERSION:2.0
PRODID:-//ExifCafé - ECPv6.15.20//NONSGML v1.0//EN
CALSCALE:GREGORIAN
METHOD:PUBLISH
X-ORIGINAL-URL:https://www.exif.cafe
X-WR-CALDESC:Veranstaltungen für ExifCafé
REFRESH-INTERVAL;VALUE=DURATION:PT1H
X-Robots-Tag:noindex
X-PUBLISHED-TTL:PT1H
BEGIN:VTIMEZONE
TZID:Europe/Berlin
BEGIN:DAYLIGHT
TZOFFSETFROM:+0100
TZOFFSETTO:+0200
TZNAME:CEST
DTSTART:20190331T010000
END:DAYLIGHT
BEGIN:STANDARD
TZOFFSETFROM:+0200
TZOFFSETTO:+0100
TZNAME:CET
DTSTART:20191027T010000
END:STANDARD
BEGIN:DAYLIGHT
TZOFFSETFROM:+0100
TZOFFSETTO:+0200
TZNAME:CEST
DTSTART:20200329T010000
END:DAYLIGHT
BEGIN:STANDARD
TZOFFSETFROM:+0200
TZOFFSETTO:+0100
TZNAME:CET
DTSTART:20201025T010000
END:STANDARD
BEGIN:DAYLIGHT
TZOFFSETFROM:+0100
TZOFFSETTO:+0200
TZNAME:CEST
DTSTART:20210328T010000
END:DAYLIGHT
BEGIN:STANDARD
TZOFFSETFROM:+0200
TZOFFSETTO:+0100
TZNAME:CET
DTSTART:20211031T010000
END:STANDARD
END:VTIMEZONE
BEGIN:VEVENT
DTSTART;TZID=Europe/Berlin:20200131T180000
DTEND;TZID=Europe/Berlin:20200131T200000
DTSTAMP:20260424T113918
CREATED:20200110T220925Z
LAST-MODIFIED:20200120T230932Z
UID:1288-1580493600-1580500800@www.exif.cafe
SUMMARY:Werkschau Fachhochschule Bielefeld
DESCRIPTION:Werkschau des Wintersemesters 2019/2020: Absolventinnen und Absolventen des Fachbereichs Gestaltung der Fachhochschule Bielefeld präsentieren ihre Abschlussarbeiten. Gezeigt werden Master- und Bachelor-Arbeiten aus den Studienrichtungen Mode\, Fotografie und Medien sowie Grafik und Kommunikationsdesign. Die Eröffnung ist am 31.01.2020 und 18.00 Uhr. Der Besuch der Werkschau des Sommersemesters 2019 war durchaus interessant (siehe Bericht im Archiv)\, so daß wir auch diesmal wieder am Freitag zur Eröffnung gehen und uns umschauen.
URL:https://www.exif.cafe/event/werkschau-fachhochschule-bielefeld-wintersemester-2019/
LOCATION:Fachhochschule Bielefeld (Fachbereich Gestaltung)\, Lampingstraße 3\, 33615 Bielefeld\, Deutschland
CATEGORIES:Foto-Messe | Foto-Event,Fotousstellung
END:VEVENT
END:VCALENDAR