BEGIN:VCALENDAR
VERSION:2.0
PRODID:-//ExifCafé - ECPv6.15.20//NONSGML v1.0//EN
CALSCALE:GREGORIAN
METHOD:PUBLISH
X-WR-CALNAME:ExifCafé
X-ORIGINAL-URL:https://www.exif.cafe
X-WR-CALDESC:Veranstaltungen für ExifCafé
REFRESH-INTERVAL;VALUE=DURATION:PT1H
X-Robots-Tag:noindex
X-PUBLISHED-TTL:PT1H
BEGIN:VTIMEZONE
TZID:Europe/Berlin
BEGIN:DAYLIGHT
TZOFFSETFROM:+0100
TZOFFSETTO:+0200
TZNAME:CEST
DTSTART:20200329T010000
END:DAYLIGHT
BEGIN:STANDARD
TZOFFSETFROM:+0200
TZOFFSETTO:+0100
TZNAME:CET
DTSTART:20201025T010000
END:STANDARD
BEGIN:DAYLIGHT
TZOFFSETFROM:+0100
TZOFFSETTO:+0200
TZNAME:CEST
DTSTART:20210328T010000
END:DAYLIGHT
BEGIN:STANDARD
TZOFFSETFROM:+0200
TZOFFSETTO:+0100
TZNAME:CET
DTSTART:20211031T010000
END:STANDARD
BEGIN:DAYLIGHT
TZOFFSETFROM:+0100
TZOFFSETTO:+0200
TZNAME:CEST
DTSTART:20220327T010000
END:DAYLIGHT
BEGIN:STANDARD
TZOFFSETFROM:+0200
TZOFFSETTO:+0100
TZNAME:CET
DTSTART:20221030T010000
END:STANDARD
END:VTIMEZONE
BEGIN:VEVENT
DTSTART;TZID=Europe/Berlin:20210923T100000
DTEND;TZID=Europe/Berlin:20210923T210000
DTSTAMP:20260421T025316
CREATED:20210721T095956Z
LAST-MODIFIED:20210721T115448Z
UID:3143-1632391200-1632430800@www.exif.cafe
SUMMARY:Photopia Hamburg
DESCRIPTION:Die PHOTOPIA Hamburg findet dieses Jahr (hoffentlich) erstmalig auf dem Gelände der Hamburg Messe und Congress GmbH statt und wird die Photokina ablösen\, da auch der Photoindustrie-Verband (PIV) mit an Board ist. An eine Wiederauferstehung der Photokina glaubt wohl niemand mehr\, so daß sich die Imaging-Welt auf das neue Format konzentrieren wird.  Aber ob Hamburg oder Köln – Hauptsache eine schöne Messe! Und das scheint die PHOTOPIA Hamburg als ‚Summit und Festival für Imaging‘\, wie der Untertitel lautet\, tatsächlich zu werden. Daher haben wir den Besuch der Messe fest eingeplant\, sofern es die Situation zu diesem Zeitpunkt zuläßt. Das umfangreiche Programm und alle Informationen zur Messe sind auf der Webseite der PHOTOPIA Hamburg zu finden. \nSelbstverständlich werden wir unsere Kameras mitnehmen und die Zeit in Hamburg noch wie üblich nutzen. Gerne kann man sich ebenfalls wie üblich wieder vor Ort anschließen\, worüber wir uns freuen würden.
URL:https://www.exif.cafe/event/photopia-hamburg-2021/
LOCATION:Hamburg Messe und Congress GmbH\, Messeplatz 1\, 20357 Hamburg\, Deutschland
CATEGORIES:Foto-Messe | Foto-Event
ATTACH;FMTTYPE=image/png:https://www.exif.cafe/wp-content/uploads/2019/12/ExifCafe_logo_PWA_512px.png
END:VEVENT
END:VCALENDAR