BEGIN:VCALENDAR
VERSION:2.0
PRODID:-//ExifCafé - ECPv6.15.20//NONSGML v1.0//EN
CALSCALE:GREGORIAN
METHOD:PUBLISH
X-WR-CALNAME:ExifCafé
X-ORIGINAL-URL:https://www.exif.cafe
X-WR-CALDESC:Veranstaltungen für ExifCafé
REFRESH-INTERVAL;VALUE=DURATION:PT1H
X-Robots-Tag:noindex
X-PUBLISHED-TTL:PT1H
BEGIN:VTIMEZONE
TZID:Europe/Berlin
BEGIN:DAYLIGHT
TZOFFSETFROM:+0100
TZOFFSETTO:+0200
TZNAME:CEST
DTSTART:20230326T010000
END:DAYLIGHT
BEGIN:STANDARD
TZOFFSETFROM:+0200
TZOFFSETTO:+0100
TZNAME:CET
DTSTART:20231029T010000
END:STANDARD
BEGIN:DAYLIGHT
TZOFFSETFROM:+0100
TZOFFSETTO:+0200
TZNAME:CEST
DTSTART:20240331T010000
END:DAYLIGHT
BEGIN:STANDARD
TZOFFSETFROM:+0200
TZOFFSETTO:+0100
TZNAME:CET
DTSTART:20241027T010000
END:STANDARD
BEGIN:DAYLIGHT
TZOFFSETFROM:+0100
TZOFFSETTO:+0200
TZNAME:CEST
DTSTART:20250330T010000
END:DAYLIGHT
BEGIN:STANDARD
TZOFFSETFROM:+0200
TZOFFSETTO:+0100
TZNAME:CET
DTSTART:20251026T010000
END:STANDARD
END:VTIMEZONE
BEGIN:VEVENT
DTSTART;TZID=Europe/Berlin:20241013T150000
DTEND;TZID=Europe/Berlin:20241013T163000
DTSTAMP:20260424T133632
CREATED:20241008T075628Z
LAST-MODIFIED:20250114T231642Z
UID:6977-1728831600-1728837000@www.exif.cafe
SUMMARY:Ausstellung 'H20 - Element Wasser'
DESCRIPTION:Vom 13. Oktober bis zum 10. November 2024 präsentiert das Foto Forum Minden im LWL-Museum Glashütte Gernheim im Rahmen der der Ausstellung ‚H2O – Element Wasser‘ 95 Fotos von 10 Fotografen und einer Fotografin. Ein Zitat aus dem Flyer zur Jahresausstellung: „Die gezeigten Fotografien präsentieren vom stillen Gewässer bis hin zur unbändigen Kraft der Meereswogen die unterschiedlichen Licht- und Farbsituationen\, die sich durch die reflektierende Wasseroberfläche ergeben. Vertreten sind fotorealistische Momente voller Energie und Emotionen: von ruhigen Wasserland- schaften über lebhafte Wasserbilder\, Wassersportbilder\, Experimente\, beeindruckende Wasserfarbspiele bis hin zu reduzierten Fotografien in schwarz/weiß.“ \nKlingt für uns nach einer spannenden Ausstellung mit sehenswerten Bildern und so nehmen wir gerne an der Vernissage am 13. Oktober 2024 um 15.00 Uhr teil und freuen und wie immer auf die interessanten Gespräche und den regen Austausch mit Gleichgesinnten.
URL:https://www.exif.cafe/event/ausstellung-foto-forum-minden-h20-element-wasser/
LOCATION:Glashütte Gernheim\, Gernheim 12\, 32469 Petershagen\, Germany
CATEGORIES:Fotousstellung
ATTACH;FMTTYPE=image/png:https://www.exif.cafe/wp-content/uploads/2019/12/ExifCafe_logo_PWA_512px.png
END:VEVENT
END:VCALENDAR