BEGIN:VCALENDAR
VERSION:2.0
PRODID:-//ExifCafé - ECPv6.15.20//NONSGML v1.0//EN
CALSCALE:GREGORIAN
METHOD:PUBLISH
X-WR-CALNAME:ExifCafé
X-ORIGINAL-URL:https://www.exif.cafe
X-WR-CALDESC:Veranstaltungen für ExifCafé
REFRESH-INTERVAL;VALUE=DURATION:PT1H
X-Robots-Tag:noindex
X-PUBLISHED-TTL:PT1H
BEGIN:VTIMEZONE
TZID:Europe/Berlin
BEGIN:DAYLIGHT
TZOFFSETFROM:+0100
TZOFFSETTO:+0200
TZNAME:CEST
DTSTART:20230326T010000
END:DAYLIGHT
BEGIN:STANDARD
TZOFFSETFROM:+0200
TZOFFSETTO:+0100
TZNAME:CET
DTSTART:20231029T010000
END:STANDARD
BEGIN:DAYLIGHT
TZOFFSETFROM:+0100
TZOFFSETTO:+0200
TZNAME:CEST
DTSTART:20240331T010000
END:DAYLIGHT
BEGIN:STANDARD
TZOFFSETFROM:+0200
TZOFFSETTO:+0100
TZNAME:CET
DTSTART:20241027T010000
END:STANDARD
BEGIN:DAYLIGHT
TZOFFSETFROM:+0100
TZOFFSETTO:+0200
TZNAME:CEST
DTSTART:20250330T010000
END:DAYLIGHT
BEGIN:STANDARD
TZOFFSETFROM:+0200
TZOFFSETTO:+0100
TZNAME:CET
DTSTART:20251026T010000
END:STANDARD
END:VTIMEZONE
BEGIN:VEVENT
DTSTART;TZID=Europe/Berlin:20240829T110000
DTEND;TZID=Europe/Berlin:20240829T183000
DTSTAMP:20260420T170912
CREATED:20240820T201717Z
LAST-MODIFIED:20240820T201717Z
UID:6882-1724929200-1724956200@www.exif.cafe
SUMMARY:Ausstellung Henri Cartier-Bresson 'Watch! Watch! Watch!'
DESCRIPTION:Das Hamburger Bucerius Kunst Forum widmet Henri Cartier-Bresson\, dem Mitbegründer der legendären Fotoagentur Magnum\, die erste große Retrospektive in Deutschland seit 20 Jahren. Zum Fotografen muß man sicherlich nicht viel sagen\, weitere Informationen zur Ausstellung\, die noch bis zum 22. September besucht werden kann\, findet Ihr auf der Homepage des Bucerius Kunst Forums. \nAm 29. August 2023 werden wir uns also mal wieder auf den Hamburg machen und uns die Ausstellung anschauen. Natürlich werden wir aber auch wieder durch Hamburg schlendern und selbst einige Fotos aufnehmen. Gerne treffen wir uns mit Gleichgesinnten vor Ort. Sprecht uns doch einfach an.
URL:https://www.exif.cafe/event/ausstellung-henri-cartier-bresson-watch-watch-watch/
LOCATION:Bucerius Kunst Forum\, Alter Wall 12\, 20457 Hamburg\, Deutschland
CATEGORIES:Fotousstellung
END:VEVENT
END:VCALENDAR