BEGIN:VCALENDAR
VERSION:2.0
PRODID:-//ExifCafé - ECPv6.15.20//NONSGML v1.0//EN
CALSCALE:GREGORIAN
METHOD:PUBLISH
X-WR-CALNAME:ExifCafé
X-ORIGINAL-URL:https://www.exif.cafe
X-WR-CALDESC:Veranstaltungen für ExifCafé
REFRESH-INTERVAL;VALUE=DURATION:PT1H
X-Robots-Tag:noindex
X-PUBLISHED-TTL:PT1H
BEGIN:VTIMEZONE
TZID:Europe/Berlin
BEGIN:DAYLIGHT
TZOFFSETFROM:+0100
TZOFFSETTO:+0200
TZNAME:CEST
DTSTART:20230326T010000
END:DAYLIGHT
BEGIN:STANDARD
TZOFFSETFROM:+0200
TZOFFSETTO:+0100
TZNAME:CET
DTSTART:20231029T010000
END:STANDARD
BEGIN:DAYLIGHT
TZOFFSETFROM:+0100
TZOFFSETTO:+0200
TZNAME:CEST
DTSTART:20240331T010000
END:DAYLIGHT
BEGIN:STANDARD
TZOFFSETFROM:+0200
TZOFFSETTO:+0100
TZNAME:CET
DTSTART:20241027T010000
END:STANDARD
BEGIN:DAYLIGHT
TZOFFSETFROM:+0100
TZOFFSETTO:+0200
TZNAME:CEST
DTSTART:20250330T010000
END:DAYLIGHT
BEGIN:STANDARD
TZOFFSETFROM:+0200
TZOFFSETTO:+0100
TZNAME:CET
DTSTART:20251026T010000
END:STANDARD
END:VTIMEZONE
BEGIN:VEVENT
DTSTART;TZID=Europe/Berlin:20241013T150000
DTEND;TZID=Europe/Berlin:20241013T163000
DTSTAMP:20260422T030445
CREATED:20241008T075628Z
LAST-MODIFIED:20250114T231642Z
UID:6977-1728831600-1728837000@www.exif.cafe
SUMMARY:Ausstellung 'H20 - Element Wasser'
DESCRIPTION:Vom 13. Oktober bis zum 10. November 2024 präsentiert das Foto Forum Minden im LWL-Museum Glashütte Gernheim im Rahmen der der Ausstellung ‚H2O – Element Wasser‘ 95 Fotos von 10 Fotografen und einer Fotografin. Ein Zitat aus dem Flyer zur Jahresausstellung: „Die gezeigten Fotografien präsentieren vom stillen Gewässer bis hin zur unbändigen Kraft der Meereswogen die unterschiedlichen Licht- und Farbsituationen\, die sich durch die reflektierende Wasseroberfläche ergeben. Vertreten sind fotorealistische Momente voller Energie und Emotionen: von ruhigen Wasserland- schaften über lebhafte Wasserbilder\, Wassersportbilder\, Experimente\, beeindruckende Wasserfarbspiele bis hin zu reduzierten Fotografien in schwarz/weiß.“ \nKlingt für uns nach einer spannenden Ausstellung mit sehenswerten Bildern und so nehmen wir gerne an der Vernissage am 13. Oktober 2024 um 15.00 Uhr teil und freuen und wie immer auf die interessanten Gespräche und den regen Austausch mit Gleichgesinnten.
URL:https://www.exif.cafe/event/ausstellung-foto-forum-minden-h20-element-wasser/
LOCATION:Glashütte Gernheim\, Gernheim 12\, 32469 Petershagen\, Germany
CATEGORIES:Fotousstellung
ATTACH;FMTTYPE=image/png:https://www.exif.cafe/wp-content/uploads/2019/12/ExifCafe_logo_PWA_512px.png
END:VEVENT
BEGIN:VEVENT
DTSTART;TZID=Europe/Berlin:20241018T163000
DTEND;TZID=Europe/Berlin:20241018T173000
DTSTAMP:20260422T030445
CREATED:20241011T202504Z
LAST-MODIFIED:20241011T202607Z
UID:6986-1729269000-1729272600@www.exif.cafe
SUMMARY:World Press Photo Exhibition 2024
DESCRIPTION:Alljährlich zeichnet die World Press Photo Foundation in einem internationalen Wettbewerb die besten Pressefotografien aus. Die preisgekrönten Fotos werden schließlich weltweit in der ‚World Press Photo Exhibition‘ ausgestellt und von mehreren Millionen Besuchern besucht. Vom 28. September bis zum 20. Oktober 2024 ist die diesjährige Ausstellung mit Fotos aus den Bereichen Sport\, Natur und Fotoreportagen im Kulturort Depot Dortmund\, einer übrigens sehr interessanten und spannenden Location\, zu sehen. \nNach guter alter Tradition werden auch wir wieder die ‚World Press Photo‘-Ausstellung in Dortmund besuchen. Dafür haben wir uns den 18. Oktober 2021 ausgesucht. Von ca. 16.30 bis 17.30 Uhr werden wir vor Ort in der Ausstellung anzutreffen sein. Gerne kann man auch sich uns auch diesmal wieder vor Ort anschließen. Wir freuen uns auf interessante Kontakte und den fotografischen Austausch.
URL:https://www.exif.cafe/event/world-press-photo-exhibition-2024/
LOCATION:Kulturort Depot Dortmund\, Immermannstraße 29\, 44147 Dortmund\, Deutschland
CATEGORIES:Fotousstellung
ATTACH;FMTTYPE=image/png:https://www.exif.cafe/wp-content/uploads/2019/12/ExifCafe_logo_PWA_512px.png
END:VEVENT
BEGIN:VEVENT
DTSTART;VALUE=DATE:20241026
DTEND;VALUE=DATE:20241118
DTSTAMP:20260422T030445
CREATED:20240812T070023Z
LAST-MODIFIED:20240812T070310Z
UID:6693-1729900800-1731887999@www.exif.cafe
SUMMARY:ExifCafé | Werkschau
DESCRIPTION:Mit der Werkschau ‚Momente‘ laden unsere Fotografen Ingrid Ohm\, Stefan Kull\, Alfred Bosdorf\, Dieter Dröge\, Axel Krause und Heinz Wille\, Euch erneut zu einer Reise durch ihre fotografischen Lieblingsthemen ein. Vom 26. Oktober bis zum 17. November 2024 stellen sie im Rathauspavillon Brackwede Fotografien unterschiedlichster Art aus. Darüber hinaus gibt es während der jeweiligen Öffnungszeiten die Gelegenheit\, sich mit anwesenden Fotografen in einem entspannten Rahmen ausgiebig auszutauschen. \nIm › Kommuniqué zur Ausstellung findet Ihr alle weiteren Informationen zur Werkschau. Wir freuen uns schon jetzt auf Euren Ausstellungsbesuch und die vielen interessanten Gespräche mit Euch!
URL:https://www.exif.cafe/event/exifcafe-werkschau-2024-rathauspavillon-brackwede/
LOCATION:Rathauspavillon Brackwede\, Germanenstraße 22\, 33647 Bielefeld\, Deutschland
CATEGORIES:ExifCafé Werkschau
ATTACH;FMTTYPE=image/png:https://www.exif.cafe/wp-content/uploads/2019/12/ExifCafe_logo_PWA_512px.png
END:VEVENT
BEGIN:VEVENT
DTSTART;TZID=Europe/Berlin:20241026T110000
DTEND;TZID=Europe/Berlin:20241026T180000
DTSTAMP:20260422T030445
CREATED:20240612T064203Z
LAST-MODIFIED:20240812T070204Z
UID:6690-1729940400-1729965600@www.exif.cafe
SUMMARY:ExifCafé | Vernissage Werkschau 'Momente'
DESCRIPTION:Am 26. Oktober 2024 um 11.00 Uhr eröffnen wir im Rathauspavillon Brackwede unsere Werkschau ‚Momente‘. \nDie Fotografen Ingrid Ohm\, Stefan Kull\, Alfred Bosdorf\, Dieter Dröge\, Axel Krause und Heinz Wille stellen vom 26. Oktober bis zum 17. November 2024 Fotografien unterschiedlichster Art aus. Mit einleitenden Worten werdet Ihr vom Bezirksbürgermeister Jesco von Kuczkowski in die Ausstellung geführt\, anschließend begleitet Euch Thilo Politzky musikalisch beim Betrachten der Momentaufnahmen. \nAlle weiteren Informationen zur Werkschau findet Ihr im › Kommuniqué zur Ausstellung. \nWir freuen uns darauf\, Euch bei der Vernissage am 26. Oktober 2024 ab 11.00 Uhr im Rathauspavillon Brackwede begrüßen zu dürfen und auf die interessanten Gespräche und den regen Austausch mit Euch!
URL:https://www.exif.cafe/event/vernissage-exifcafe-werkschau-2024-rathauspavillon-brackwede/
LOCATION:Rathauspavillon Brackwede\, Germanenstraße 22\, 33647 Bielefeld\, Deutschland
CATEGORIES:ExifCafé Werkschau
ATTACH;FMTTYPE=image/png:https://www.exif.cafe/wp-content/uploads/2019/12/ExifCafe_logo_PWA_512px.png
END:VEVENT
END:VCALENDAR