BEGIN:VCALENDAR
VERSION:2.0
PRODID:-//ExifCafé - ECPv6.15.20//NONSGML v1.0//EN
CALSCALE:GREGORIAN
METHOD:PUBLISH
X-ORIGINAL-URL:https://www.exif.cafe
X-WR-CALDESC:Veranstaltungen für ExifCafé
REFRESH-INTERVAL;VALUE=DURATION:PT1H
X-Robots-Tag:noindex
X-PUBLISHED-TTL:PT1H
BEGIN:VTIMEZONE
TZID:Europe/Berlin
BEGIN:DAYLIGHT
TZOFFSETFROM:+0100
TZOFFSETTO:+0200
TZNAME:CEST
DTSTART:20230326T010000
END:DAYLIGHT
BEGIN:STANDARD
TZOFFSETFROM:+0200
TZOFFSETTO:+0100
TZNAME:CET
DTSTART:20231029T010000
END:STANDARD
BEGIN:DAYLIGHT
TZOFFSETFROM:+0100
TZOFFSETTO:+0200
TZNAME:CEST
DTSTART:20240331T010000
END:DAYLIGHT
BEGIN:STANDARD
TZOFFSETFROM:+0200
TZOFFSETTO:+0100
TZNAME:CET
DTSTART:20241027T010000
END:STANDARD
BEGIN:DAYLIGHT
TZOFFSETFROM:+0100
TZOFFSETTO:+0200
TZNAME:CEST
DTSTART:20250330T010000
END:DAYLIGHT
BEGIN:STANDARD
TZOFFSETFROM:+0200
TZOFFSETTO:+0100
TZNAME:CET
DTSTART:20251026T010000
END:STANDARD
END:VTIMEZONE
BEGIN:VEVENT
DTSTART;TZID=Europe/Berlin:20240713T133000
DTEND;TZID=Europe/Berlin:20240713T150000
DTSTAMP:20260421T231027
CREATED:20240630T123646Z
LAST-MODIFIED:20240709T195337Z
UID:6789-1720877400-1720882800@www.exif.cafe
SUMMARY:Ausstellung Robert Capa 'Die Wahrheit ist das beste Bild'
DESCRIPTION:Noch bis zum 29. September 2024 kann man im Kunstmuseum Pablo Picasso die Capa-Ausstellung ‚Die Wahrheit ist das beste Bild‘ besuchen. Der Fotograf Robert Capa sollte bekannt sein\, seine Bilder ebenso. Zumindest sein berühmteres Bild ‚Tod des Milizionärs‘ habt Ihr bestimmt schon gesehen. In diesem Zusammenhang ist auch die Wahl des Ausstellungstitels interessant. \nMit Sicherheit also eine sehr spannende Ausstellung\, die wieder mal direkt ‚um die Ecke‘ präsentiert wird und die wir uns natürlich nicht entgehen lassen! Wir machen uns daher am 13. Juli 2024 uns auf den Weg nach Münster. Sicherlich werden wir uns auch wieder typischerweise ein Café vor Ort suchen und auch noch ein wenig in Münster fotografieren. Wer möchte\, kann sich uns vor Ort anschließen. Wir würden uns darüber freuen.
URL:https://www.exif.cafe/event/ausstellung-robert-capa-die-wahrheit-ist-das-beste-bild/
LOCATION:Kunstmuseum Pablo Picasso\, Picassoplatz 1\, 48143 Münster\, Deutschland
CATEGORIES:Fotousstellung
END:VEVENT
END:VCALENDAR